BEGIN:VCALENDAR
VERSION:2.0
PRODID:-//KoeCooN - ECPv6.15.20//NONSGML v1.0//EN
CALSCALE:GREGORIAN
METHOD:PUBLISH
X-WR-CALNAME:KoeCooN
X-ORIGINAL-URL:https://koecoon.com
X-WR-CALDESC:Events for KoeCooN
REFRESH-INTERVAL;VALUE=DURATION:PT1H
X-Robots-Tag:noindex
X-PUBLISHED-TTL:PT1H
BEGIN:VTIMEZONE
TZID:Europe/Brussels
BEGIN:DAYLIGHT
TZOFFSETFROM:+0100
TZOFFSETTO:+0200
TZNAME:CEST
DTSTART:20240331T010000
END:DAYLIGHT
BEGIN:STANDARD
TZOFFSETFROM:+0200
TZOFFSETTO:+0100
TZNAME:CET
DTSTART:20241027T010000
END:STANDARD
BEGIN:DAYLIGHT
TZOFFSETFROM:+0100
TZOFFSETTO:+0200
TZNAME:CEST
DTSTART:20250330T010000
END:DAYLIGHT
BEGIN:STANDARD
TZOFFSETFROM:+0200
TZOFFSETTO:+0100
TZNAME:CET
DTSTART:20251026T010000
END:STANDARD
BEGIN:DAYLIGHT
TZOFFSETFROM:+0100
TZOFFSETTO:+0200
TZNAME:CEST
DTSTART:20260329T010000
END:DAYLIGHT
BEGIN:STANDARD
TZOFFSETFROM:+0200
TZOFFSETTO:+0100
TZNAME:CET
DTSTART:20261025T010000
END:STANDARD
BEGIN:DAYLIGHT
TZOFFSETFROM:+0100
TZOFFSETTO:+0200
TZNAME:CEST
DTSTART:20270328T010000
END:DAYLIGHT
BEGIN:STANDARD
TZOFFSETFROM:+0200
TZOFFSETTO:+0100
TZNAME:CET
DTSTART:20271031T010000
END:STANDARD
END:VTIMEZONE
BEGIN:VEVENT
DTSTART;TZID=Europe/Brussels:20260306T103000
DTEND;TZID=Europe/Brussels:20260306T113000
DTSTAMP:20260424T175011
CREATED:20260302T091911Z
LAST-MODIFIED:20260302T091911Z
UID:25285-1772793000-1772796600@koecoon.com
SUMMARY:Petit-déjeuner convivial /Gezellig ontbijt
DESCRIPTION:Plus d’infos / Meer info
URL:https://koecoon.com/event/petit-dejeuner-convivial-gezellig-ontbijt-18/
LOCATION:Burger Café Citoyen\, Rue des tisserands 4 / Weversstraat 4\, Koekelberg\, 1081\, Belgium
CATEGORIES:Burger Café Citoyen
END:VEVENT
BEGIN:VEVENT
DTSTART;TZID=Europe/Brussels:20260305T140000
DTEND;TZID=Europe/Brussels:20260305T160000
DTSTAMP:20260424T175011
CREATED:20260302T092630Z
LAST-MODIFIED:20260302T092630Z
UID:25301-1772719200-1772726400@koecoon.com
SUMMARY:Rendez-vous de la prévention / Ontmoetingen rond gezondheidspreventie
DESCRIPTION:Plus d’infos / Meer info
URL:https://koecoon.com/event/rendez-vous-de-la-prevention-ontmoetingen-rond-gezondheidspreventie/
LOCATION:Burger Café Citoyen\, Rue des tisserands 4 / Weversstraat 4\, Koekelberg\, 1081\, Belgium
CATEGORIES:Burger Café Citoyen
END:VEVENT
BEGIN:VEVENT
DTSTART;TZID=Europe/Brussels:20260305T103000
DTEND;TZID=Europe/Brussels:20260305T113000
DTSTAMP:20260424T175011
CREATED:20260302T092252Z
LAST-MODIFIED:20260302T092252Z
UID:25292-1772706600-1772710200@koecoon.com
SUMMARY:Table de conversation en néerlandais /Nederlandse conversatietafel
DESCRIPTION:Plus d’infos / Meer info
URL:https://koecoon.com/event/table-de-conversation-en-neerlandais-nederlandse-conversatietafel-5/
LOCATION:Burger Café Citoyen\, Rue des tisserands 4 / Weversstraat 4\, Koekelberg\, 1081\, Belgium
END:VEVENT
BEGIN:VEVENT
DTSTART;TZID=Europe/Brussels:20260305T090000
DTEND;TZID=Europe/Brussels:20260305T103000
DTSTAMP:20260424T175011
CREATED:20260302T091614Z
LAST-MODIFIED:20260302T091732Z
UID:25277-1772701200-1772706600@koecoon.com
SUMMARY:Petit-déjeuner convivial /Gezellig ontbijt
DESCRIPTION:Plus d’infos / Meer info
URL:https://koecoon.com/event/petit-dejeuner-convivial-gezellig-ontbijt-15/
LOCATION:Burger Café Citoyen\, Rue des tisserands 4 / Weversstraat 4\, Koekelberg\, 1081\, Belgium
CATEGORIES:Burger Café Citoyen
END:VEVENT
BEGIN:VEVENT
DTSTART;TZID=Europe/Brussels:20260220T100000
DTEND;TZID=Europe/Brussels:20260220T120000
DTSTAMP:20260424T175011
CREATED:20260128T140930Z
LAST-MODIFIED:20260128T142102Z
UID:25104-1771581600-1771588800@koecoon.com
SUMMARY:Permanence juridique / Juridische permanentie
DESCRIPTION:Plus d’infos / Meer info
URL:https://koecoon.com/event/permanence-juridique-juridische-permanentie-3/
LOCATION:Burger Café Citoyen\, Rue des tisserands 4 / Weversstraat 4\, Koekelberg\, 1081\, Belgium
CATEGORIES:Burger Café Citoyen
END:VEVENT
BEGIN:VEVENT
DTSTART;TZID=Europe/Brussels:20260219T090000
DTEND;TZID=Europe/Brussels:20260219T110000
DTSTAMP:20260424T175011
CREATED:20260128T111157Z
LAST-MODIFIED:20260128T111157Z
UID:25092-1771491600-1771498800@koecoon.com
SUMMARY:Petit-déjeuner convivial /Gezellig ontbijt
DESCRIPTION:Plus d’infos / Meer info
URL:https://koecoon.com/event/petit-dejeuner-convivial-gezellig-ontbijt-14/
LOCATION:Burger Café Citoyen\, Rue des tisserands 4 / Weversstraat 4\, Koekelberg\, 1081\, Belgium
CATEGORIES:Burger Café Citoyen
END:VEVENT
BEGIN:VEVENT
DTSTART;TZID=Europe/Brussels:20260213T140000
DTEND;TZID=Europe/Brussels:20260213T160000
DTSTAMP:20260424T175011
CREATED:20260128T110927Z
LAST-MODIFIED:20260128T110927Z
UID:25083-1770991200-1770998400@koecoon.com
SUMMARY:Atelier numérique /Digitale workshop
DESCRIPTION:Plus d’infos / Meer info
URL:https://koecoon.com/event/atelier-numerique-digitale-workshop-4/
LOCATION:Burger Café Citoyen\, Rue des tisserands 4 / Weversstraat 4\, Koekelberg\, 1081\, Belgium
CATEGORIES:Burger Café Citoyen
END:VEVENT
BEGIN:VEVENT
DTSTART;TZID=Europe/Brussels:20260213T103000
DTEND;TZID=Europe/Brussels:20260213T113000
DTSTAMP:20260424T175011
CREATED:20260128T140728Z
LAST-MODIFIED:20260128T140728Z
UID:25100-1770978600-1770982200@koecoon.com
SUMMARY:Table de conversation en français /Franse conversatietafel
DESCRIPTION:Plus d’infos / Meer info
URL:https://koecoon.com/event/table-de-conversation-en-francais-franse-conversatietafel-6/
LOCATION:Burger Café Citoyen\, Rue des tisserands 4 / Weversstraat 4\, Koekelberg\, 1081\, Belgium
CATEGORIES:Burger Café Citoyen
END:VEVENT
BEGIN:VEVENT
DTSTART;TZID=Europe/Brussels:20260212T090000
DTEND;TZID=Europe/Brussels:20260212T110000
DTSTAMP:20260424T175011
CREATED:20260128T111141Z
LAST-MODIFIED:20260128T111141Z
UID:25093-1770886800-1770894000@koecoon.com
SUMMARY:Petit-déjeuner convivial /Gezellig ontbijt
DESCRIPTION:Plus d’infos / Meer info
URL:https://koecoon.com/event/petit-dejeuner-convivial-gezellig-ontbijt-13/
LOCATION:Burger Café Citoyen\, Rue des tisserands 4 / Weversstraat 4\, Koekelberg\, 1081\, Belgium
CATEGORIES:Burger Café Citoyen
END:VEVENT
BEGIN:VEVENT
DTSTART;TZID=Europe/Brussels:20260206T140000
DTEND;TZID=Europe/Brussels:20260206T160000
DTSTAMP:20260424T175011
CREATED:20260119T145736Z
LAST-MODIFIED:20260128T140820Z
UID:25022-1770386400-1770393600@koecoon.com
SUMMARY:Séance information réforme chômage/ Informatiesessie hervorming werkloosheid
DESCRIPTION:Plus d’infos / Meer info
URL:https://koecoon.com/event/seance-information-reforme-chomage-informatiesessie-hervorming-werkloosheid/
LOCATION:Burger Café Citoyen\, Rue des tisserands 4 / Weversstraat 4\, Koekelberg\, 1081\, Belgium
CATEGORIES:Burger Café Citoyen
END:VEVENT
BEGIN:VEVENT
DTSTART;TZID=Europe/Brussels:20260206T103000
DTEND;TZID=Europe/Brussels:20260206T113000
DTSTAMP:20260424T175011
CREATED:20260128T135631Z
LAST-MODIFIED:20260128T135636Z
UID:25096-1770373800-1770377400@koecoon.com
SUMMARY:Table de conversation en français /Franse conversatietafel
DESCRIPTION:Plus d’infos / Meer info
URL:https://koecoon.com/event/table-de-conversation-en-francais-franse-conversatietafel-5/
LOCATION:Burger Café Citoyen\, Rue des tisserands 4 / Weversstraat 4\, Koekelberg\, 1081\, Belgium
CATEGORIES:Burger Café Citoyen
END:VEVENT
BEGIN:VEVENT
DTSTART;TZID=Europe/Brussels:20260205T140000
DTEND;TZID=Europe/Brussels:20260205T160000
DTSTAMP:20260424T175011
CREATED:20260128T111012Z
LAST-MODIFIED:20260128T111012Z
UID:25086-1770300000-1770307200@koecoon.com
SUMMARY:Atelier Créatif/ Creatif workshop
DESCRIPTION:Plus d’infos / Meer info
URL:https://koecoon.com/event/atelier-creatif-creatif-workshop-4/
LOCATION:Burger Café Citoyen\, Rue des tisserands 4 / Weversstraat 4\, Koekelberg\, 1081\, Belgium
CATEGORIES:Burger Café Citoyen
END:VEVENT
BEGIN:VEVENT
DTSTART;TZID=Europe/Brussels:20260205T090000
DTEND;TZID=Europe/Brussels:20260205T110000
DTSTAMP:20260424T175011
CREATED:20260128T111115Z
LAST-MODIFIED:20260128T111116Z
UID:25089-1770282000-1770289200@koecoon.com
SUMMARY:Petit-déjeuner convivial /Gezellig ontbijt
DESCRIPTION:Plus d’infos / Meer info
URL:https://koecoon.com/event/petit-dejeuner-convivial-gezellig-ontbijt-12/
LOCATION:Burger Café Citoyen\, Rue des tisserands 4 / Weversstraat 4\, Koekelberg\, 1081\, Belgium
CATEGORIES:Burger Café Citoyen
END:VEVENT
BEGIN:VEVENT
DTSTART;TZID=Europe/Brussels:20260130T140000
DTEND;TZID=Europe/Brussels:20260130T160000
DTSTAMP:20260424T175011
CREATED:20260112T091410Z
LAST-MODIFIED:20260112T091410Z
UID:24705-1769781600-1769788800@koecoon.com
SUMMARY:Atelier Créatif/ Creatif workshop
DESCRIPTION:Plus d’infos / Meer info
URL:https://koecoon.com/event/atelier-creatif-creatif-workshop-2/
LOCATION:Burger Café Citoyen\, Rue des tisserands 4 / Weversstraat 4\, Koekelberg\, 1081\, Belgium
CATEGORIES:Burger Café Citoyen
END:VEVENT
BEGIN:VEVENT
DTSTART;TZID=Europe/Brussels:20260129T090000
DTEND;TZID=Europe/Brussels:20260129T110000
DTSTAMP:20260424T175011
CREATED:20260112T090904Z
LAST-MODIFIED:20260112T090904Z
UID:24693-1769677200-1769684400@koecoon.com
SUMMARY:Petit-déjeuner convivial /Gezellig ontbijt
DESCRIPTION:Plus d’infos / Meer info
URL:https://koecoon.com/event/petit-dejeuner-convivial-gezellig-ontbijt-10/
LOCATION:Burger Café Citoyen\, Rue des tisserands 4 / Weversstraat 4\, Koekelberg\, 1081\, Belgium
CATEGORIES:Burger Café Citoyen
END:VEVENT
BEGIN:VEVENT
DTSTART;TZID=Europe/Brussels:20260123T140000
DTEND;TZID=Europe/Brussels:20260123T160000
DTSTAMP:20260424T175011
CREATED:20260112T090508Z
LAST-MODIFIED:20260112T090508Z
UID:24681-1769176800-1769184000@koecoon.com
SUMMARY:Atelier numérique /Digitale workshop
DESCRIPTION:Plus d’infos / Meer info
URL:https://koecoon.com/event/atelier-numerique-digitale-workshop-3/
LOCATION:Burger Café Citoyen\, Rue des tisserands 4 / Weversstraat 4\, Koekelberg\, 1081\, Belgium
CATEGORIES:Burger Café Citoyen
END:VEVENT
BEGIN:VEVENT
DTSTART;TZID=Europe/Brussels:20260123T103000
DTEND;TZID=Europe/Brussels:20260123T113000
DTSTAMP:20260424T175011
CREATED:20260112T091220Z
LAST-MODIFIED:20260112T091221Z
UID:24701-1769164200-1769167800@koecoon.com
SUMMARY:Table de conversation en français /Franse conversatietafel
DESCRIPTION:Plus d’infos / Meer info
URL:https://koecoon.com/event/table-de-conversation-en-francais-franse-conversatietafel-4/
LOCATION:Burger Café Citoyen\, Rue des tisserands 4 / Weversstraat 4\, Koekelberg\, 1081\, Belgium
CATEGORIES:Burger Café Citoyen
END:VEVENT
BEGIN:VEVENT
DTSTART;TZID=Europe/Brussels:20260122T090000
DTEND;TZID=Europe/Brussels:20260122T110000
DTSTAMP:20260424T175011
CREATED:20260112T090853Z
LAST-MODIFIED:20260112T090853Z
UID:24692-1769072400-1769079600@koecoon.com
SUMMARY:Petit-déjeuner convivial /Gezellig ontbijt
DESCRIPTION:Plus d’infos / Meer info
URL:https://koecoon.com/event/petit-dejeuner-convivial-gezellig-ontbijt-9/
LOCATION:Burger Café Citoyen\, Rue des tisserands 4 / Weversstraat 4\, Koekelberg\, 1081\, Belgium
CATEGORIES:Burger Café Citoyen
END:VEVENT
BEGIN:VEVENT
DTSTART;TZID=Europe/Brussels:20260115T100000
DTEND;TZID=Europe/Brussels:20260115T120000
DTSTAMP:20260424T175011
CREATED:20260112T090434Z
LAST-MODIFIED:20260112T090434Z
UID:24679-1768471200-1768478400@koecoon.com
SUMMARY:Permanence juridique / Juridische permanentie
DESCRIPTION:Plus d’infos / Meer info
URL:https://koecoon.com/event/permanence-juridique-juridische-permanentie-2/
LOCATION:Burger Café Citoyen\, Rue des tisserands 4 / Weversstraat 4\, Koekelberg\, 1081\, Belgium
CATEGORIES:Burger Café Citoyen
END:VEVENT
BEGIN:VEVENT
DTSTART;TZID=Europe/Brussels:20260115T090000
DTEND;TZID=Europe/Brussels:20260115T110000
DTSTAMP:20260424T175011
CREATED:20260112T090845Z
LAST-MODIFIED:20260112T090845Z
UID:24691-1768467600-1768474800@koecoon.com
SUMMARY:Petit-déjeuner convivial /Gezellig ontbijt
DESCRIPTION:Plus d’infos / Meer info
URL:https://koecoon.com/event/petit-dejeuner-convivial-gezellig-ontbijt-8/
LOCATION:Burger Café Citoyen\, Rue des tisserands 4 / Weversstraat 4\, Koekelberg\, 1081\, Belgium
CATEGORIES:Burger Café Citoyen
END:VEVENT
BEGIN:VEVENT
DTSTART;TZID=Europe/Brussels:20260109T140000
DTEND;TZID=Europe/Brussels:20260109T160000
DTSTAMP:20260424T175011
CREATED:20260101T091011Z
LAST-MODIFIED:20260112T091031Z
UID:24699-1767967200-1767974400@koecoon.com
SUMMARY:Séance information réforme chômage/ Informatiesessie hervorming werkloosheid
DESCRIPTION:Plus d’infos / Meer info
URL:https://koecoon.com/event/seance-information-reforme-chomage-informatiesessie-hervorming-werkloosheid-2/
LOCATION:Burger Café Citoyen\, Rue des tisserands 4 / Weversstraat 4\, Koekelberg\, 1081\, Belgium
CATEGORIES:Burger Café Citoyen
END:VEVENT
BEGIN:VEVENT
DTSTART;TZID=Europe/Brussels:20260109T103000
DTEND;TZID=Europe/Brussels:20260109T113000
DTSTAMP:20260424T175011
CREATED:20260105T091119Z
LAST-MODIFIED:20260112T091156Z
UID:24702-1767954600-1767958200@koecoon.com
SUMMARY:Table de conversation en français /Franse conversatietafel
DESCRIPTION:Plus d’infos / Meer info
URL:https://koecoon.com/event/table-de-conversation-en-francais-franse-conversatietafel-3/
LOCATION:Burger Café Citoyen\, Rue des tisserands 4 / Weversstraat 4\, Koekelberg\, 1081\, Belgium
CATEGORIES:Burger Café Citoyen
END:VEVENT
BEGIN:VEVENT
DTSTART;TZID=Europe/Brussels:20260108T140000
DTEND;TZID=Europe/Brussels:20260108T160000
DTSTAMP:20260424T175011
CREATED:20260105T091502Z
LAST-MODIFIED:20260112T093132Z
UID:24707-1767880800-1767888000@koecoon.com
SUMMARY:Information projet VRAC "alimentation bio" / Informatie over het VRAC project "biologische voeding"
DESCRIPTION:Plus d’infos / Meer info
URL:https://koecoon.com/event/petit-dejeuner-convivial-gezellig-ontbijt-11/
LOCATION:Burger Café Citoyen\, Rue des tisserands 4 / Weversstraat 4\, Koekelberg\, 1081\, Belgium
CATEGORIES:Burger Café Citoyen
END:VEVENT
BEGIN:VEVENT
DTSTART;TZID=Europe/Brussels:20260108T090000
DTEND;TZID=Europe/Brussels:20260108T110000
DTSTAMP:20260424T175011
CREATED:20260112T090622Z
LAST-MODIFIED:20260112T090622Z
UID:24683-1767862800-1767870000@koecoon.com
SUMMARY:Petit-déjeuner convivial /Gezellig ontbijt
DESCRIPTION:Plus d’infos / Meer info
URL:https://koecoon.com/event/petit-dejeuner-convivial-gezellig-ontbijt-7/
LOCATION:Burger Café Citoyen\, Rue des tisserands 4 / Weversstraat 4\, Koekelberg\, 1081\, Belgium
CATEGORIES:Burger Café Citoyen
END:VEVENT
BEGIN:VEVENT
DTSTART;TZID=Europe/Brussels:20251219T140000
DTEND;TZID=Europe/Brussels:20251219T160000
DTSTAMP:20260424T175011
CREATED:20251208T133823Z
LAST-MODIFIED:20251208T133823Z
UID:24438-1766152800-1766160000@koecoon.com
SUMMARY:Atelier numérique /Digitale workshop
DESCRIPTION:Plus d’infos / Meer info
URL:https://koecoon.com/event/atelier-numerique-digitale-workshop-2/
LOCATION:Burger Café Citoyen\, Rue des tisserands 4 / Weversstraat 4\, Koekelberg\, 1081\, Belgium
CATEGORIES:Burger Café Citoyen
END:VEVENT
BEGIN:VEVENT
DTSTART;TZID=Europe/Brussels:20251219T100000
DTEND;TZID=Europe/Brussels:20251219T120000
DTSTAMP:20260424T175011
CREATED:20251208T133956Z
LAST-MODIFIED:20251208T133956Z
UID:24442-1766138400-1766145600@koecoon.com
SUMMARY:Permanence juridique / Juridische permanentie
DESCRIPTION:Plus d’infos / Meer info
URL:https://koecoon.com/event/permanence-juridique-juridische-permanentie/
LOCATION:Burger Café Citoyen\, Rue des tisserands 4 / Weversstraat 4\, Koekelberg\, 1081\, Belgium
CATEGORIES:Burger Café Citoyen
END:VEVENT
BEGIN:VEVENT
DTSTART;TZID=Europe/Brussels:20251218T090000
DTEND;TZID=Europe/Brussels:20251218T110000
DTSTAMP:20260424T175011
CREATED:20251208T132950Z
LAST-MODIFIED:20251208T132950Z
UID:24416-1766048400-1766055600@koecoon.com
SUMMARY:Petit-déjeuner convivial /Gezellig ontbijt
DESCRIPTION:Plus d’infos / Meer info
URL:https://koecoon.com/event/petit-dejeuner-convivial-gezellig-ontbijt-6/
LOCATION:Burger Café Citoyen\, Rue des tisserands 4 / Weversstraat 4\, Koekelberg\, 1081\, Belgium
CATEGORIES:Burger Café Citoyen
END:VEVENT
BEGIN:VEVENT
DTSTART;TZID=Europe/Brussels:20251218T033000
DTEND;TZID=Europe/Brussels:20251218T040000
DTSTAMP:20260424T175011
CREATED:20251208T133707Z
LAST-MODIFIED:20251208T133707Z
UID:24433-1766028600-1766030400@koecoon.com
SUMMARY:Après-midi jeux de société /Bordspelletjesmiddag
DESCRIPTION:Plus d’infos / Meer info
URL:https://koecoon.com/event/apres-midi-jeux-de-societe-bordspelletjesmiddag/
LOCATION:Burger Café Citoyen\, Rue des tisserands 4 / Weversstraat 4\, Koekelberg\, 1081\, Belgium
CATEGORIES:Burger Café Citoyen
END:VEVENT
BEGIN:VEVENT
DTSTART;TZID=Europe/Brussels:20251212T140000
DTEND;TZID=Europe/Brussels:20251212T160000
DTSTAMP:20260424T175011
CREATED:20251208T135129Z
LAST-MODIFIED:20251208T135129Z
UID:24457-1765548000-1765555200@koecoon.com
SUMMARY:Séance information réforme chômage/ Informatiesessie hervorming werkloosheid
DESCRIPTION:Plus d’infos / Meer info
URL:https://koecoon.com/event/seance-information-reforme-chomage-informatiesessie-hervorming-werkloosheid-3/
LOCATION:Jourdan Village\, François Delcoigne 39\, KOEKELBERG\, 1081\, 1081\, Belgium
CATEGORIES:Burger Café Citoyen
END:VEVENT
BEGIN:VEVENT
DTSTART;TZID=Europe/Brussels:20251211T140000
DTEND;TZID=Europe/Brussels:20251211T160000
DTSTAMP:20260424T175011
CREATED:20251208T133511Z
LAST-MODIFIED:20251208T133511Z
UID:24430-1765461600-1765468800@koecoon.com
SUMMARY:Que faire au Burger Café Citoyen ? /Wat te doen in het Burger CaféCitoyen ?
DESCRIPTION:Plus d’infos / Meer info
URL:https://koecoon.com/event/que-faire-au-burger-cafe-citoyen-wat-te-doen-in-het-burger-cafecitoyen-2/
LOCATION:Burger Café Citoyen\, Rue des tisserands 4 / Weversstraat 4\, Koekelberg\, 1081\, Belgium
CATEGORIES:Burger Café Citoyen
END:VEVENT
END:VCALENDAR