BEGIN:VCALENDAR
VERSION:2.0
PRODID:-//KoeCooN - ECPv6.15.20//NONSGML v1.0//EN
CALSCALE:GREGORIAN
METHOD:PUBLISH
X-WR-CALNAME:KoeCooN
X-ORIGINAL-URL:https://koecoon.com
X-WR-CALDESC:Events for KoeCooN
REFRESH-INTERVAL;VALUE=DURATION:PT1H
X-Robots-Tag:noindex
X-PUBLISHED-TTL:PT1H
BEGIN:VTIMEZONE
TZID:Europe/Brussels
BEGIN:DAYLIGHT
TZOFFSETFROM:+0100
TZOFFSETTO:+0200
TZNAME:CEST
DTSTART:20240331T010000
END:DAYLIGHT
BEGIN:STANDARD
TZOFFSETFROM:+0200
TZOFFSETTO:+0100
TZNAME:CET
DTSTART:20241027T010000
END:STANDARD
BEGIN:DAYLIGHT
TZOFFSETFROM:+0100
TZOFFSETTO:+0200
TZNAME:CEST
DTSTART:20250330T010000
END:DAYLIGHT
BEGIN:STANDARD
TZOFFSETFROM:+0200
TZOFFSETTO:+0100
TZNAME:CET
DTSTART:20251026T010000
END:STANDARD
BEGIN:DAYLIGHT
TZOFFSETFROM:+0100
TZOFFSETTO:+0200
TZNAME:CEST
DTSTART:20260329T010000
END:DAYLIGHT
BEGIN:STANDARD
TZOFFSETFROM:+0200
TZOFFSETTO:+0100
TZNAME:CET
DTSTART:20261025T010000
END:STANDARD
BEGIN:DAYLIGHT
TZOFFSETFROM:+0100
TZOFFSETTO:+0200
TZNAME:CEST
DTSTART:20270328T010000
END:DAYLIGHT
BEGIN:STANDARD
TZOFFSETFROM:+0200
TZOFFSETTO:+0100
TZNAME:CET
DTSTART:20271031T010000
END:STANDARD
END:VTIMEZONE
BEGIN:VEVENT
DTSTART;TZID=Europe/Brussels:20260108T090000
DTEND;TZID=Europe/Brussels:20260108T110000
DTSTAMP:20260424T192423
CREATED:20260112T090622Z
LAST-MODIFIED:20260112T090622Z
UID:24683-1767862800-1767870000@koecoon.com
SUMMARY:Petit-déjeuner convivial /Gezellig ontbijt
DESCRIPTION:Plus d’infos / Meer info
URL:https://koecoon.com/event/petit-dejeuner-convivial-gezellig-ontbijt-7/
LOCATION:Burger Café Citoyen\, Rue des tisserands 4 / Weversstraat 4\, Koekelberg\, 1081\, Belgium
CATEGORIES:Burger Café Citoyen
END:VEVENT
BEGIN:VEVENT
DTSTART;TZID=Europe/Brussels:20251219T140000
DTEND;TZID=Europe/Brussels:20251219T160000
DTSTAMP:20260424T192423
CREATED:20251208T133823Z
LAST-MODIFIED:20251208T133823Z
UID:24438-1766152800-1766160000@koecoon.com
SUMMARY:Atelier numérique /Digitale workshop
DESCRIPTION:Plus d’infos / Meer info
URL:https://koecoon.com/event/atelier-numerique-digitale-workshop-2/
LOCATION:Burger Café Citoyen\, Rue des tisserands 4 / Weversstraat 4\, Koekelberg\, 1081\, Belgium
CATEGORIES:Burger Café Citoyen
END:VEVENT
BEGIN:VEVENT
DTSTART;TZID=Europe/Brussels:20251219T100000
DTEND;TZID=Europe/Brussels:20251219T120000
DTSTAMP:20260424T192423
CREATED:20251208T133956Z
LAST-MODIFIED:20251208T133956Z
UID:24442-1766138400-1766145600@koecoon.com
SUMMARY:Permanence juridique / Juridische permanentie
DESCRIPTION:Plus d’infos / Meer info
URL:https://koecoon.com/event/permanence-juridique-juridische-permanentie/
LOCATION:Burger Café Citoyen\, Rue des tisserands 4 / Weversstraat 4\, Koekelberg\, 1081\, Belgium
CATEGORIES:Burger Café Citoyen
END:VEVENT
BEGIN:VEVENT
DTSTART;TZID=Europe/Brussels:20251218T090000
DTEND;TZID=Europe/Brussels:20251218T110000
DTSTAMP:20260424T192423
CREATED:20251208T132950Z
LAST-MODIFIED:20251208T132950Z
UID:24416-1766048400-1766055600@koecoon.com
SUMMARY:Petit-déjeuner convivial /Gezellig ontbijt
DESCRIPTION:Plus d’infos / Meer info
URL:https://koecoon.com/event/petit-dejeuner-convivial-gezellig-ontbijt-6/
LOCATION:Burger Café Citoyen\, Rue des tisserands 4 / Weversstraat 4\, Koekelberg\, 1081\, Belgium
CATEGORIES:Burger Café Citoyen
END:VEVENT
BEGIN:VEVENT
DTSTART;TZID=Europe/Brussels:20251218T033000
DTEND;TZID=Europe/Brussels:20251218T040000
DTSTAMP:20260424T192423
CREATED:20251208T133707Z
LAST-MODIFIED:20251208T133707Z
UID:24433-1766028600-1766030400@koecoon.com
SUMMARY:Après-midi jeux de société /Bordspelletjesmiddag
DESCRIPTION:Plus d’infos / Meer info
URL:https://koecoon.com/event/apres-midi-jeux-de-societe-bordspelletjesmiddag/
LOCATION:Burger Café Citoyen\, Rue des tisserands 4 / Weversstraat 4\, Koekelberg\, 1081\, Belgium
CATEGORIES:Burger Café Citoyen
END:VEVENT
BEGIN:VEVENT
DTSTART;TZID=Europe/Brussels:20251212T140000
DTEND;TZID=Europe/Brussels:20251212T160000
DTSTAMP:20260424T192423
CREATED:20251208T135129Z
LAST-MODIFIED:20251208T135129Z
UID:24457-1765548000-1765555200@koecoon.com
SUMMARY:Séance information réforme chômage/ Informatiesessie hervorming werkloosheid
DESCRIPTION:Plus d’infos / Meer info
URL:https://koecoon.com/event/seance-information-reforme-chomage-informatiesessie-hervorming-werkloosheid-3/
LOCATION:Jourdan Village\, François Delcoigne 39\, KOEKELBERG\, 1081\, 1081\, Belgium
CATEGORIES:Burger Café Citoyen
END:VEVENT
BEGIN:VEVENT
DTSTART;TZID=Europe/Brussels:20251211T140000
DTEND;TZID=Europe/Brussels:20251211T160000
DTSTAMP:20260424T192423
CREATED:20251208T133511Z
LAST-MODIFIED:20251208T133511Z
UID:24430-1765461600-1765468800@koecoon.com
SUMMARY:Que faire au Burger Café Citoyen ? /Wat te doen in het Burger CaféCitoyen ?
DESCRIPTION:Plus d’infos / Meer info
URL:https://koecoon.com/event/que-faire-au-burger-cafe-citoyen-wat-te-doen-in-het-burger-cafecitoyen-2/
LOCATION:Burger Café Citoyen\, Rue des tisserands 4 / Weversstraat 4\, Koekelberg\, 1081\, Belgium
CATEGORIES:Burger Café Citoyen
END:VEVENT
BEGIN:VEVENT
DTSTART;TZID=Europe/Brussels:20251211T090000
DTEND;TZID=Europe/Brussels:20251211T110000
DTSTAMP:20260424T192423
CREATED:20251208T133358Z
LAST-MODIFIED:20251208T133358Z
UID:24427-1765443600-1765450800@koecoon.com
SUMMARY:Séance d’info logement /Informatiebijeenkomst huisvesting
DESCRIPTION:Plus d’infos / Meer info
URL:https://koecoon.com/event/seance-dinfo-logement-informatiebijeenkomst-huisvesting-2/
LOCATION:Burger Café Citoyen\, Rue des tisserands 4 / Weversstraat 4\, Koekelberg\, 1081\, Belgium
CATEGORIES:Burger Café Citoyen
END:VEVENT
BEGIN:VEVENT
DTSTART;TZID=Europe/Brussels:20251204T140000
DTEND;TZID=Europe/Brussels:20251204T160000
DTSTAMP:20260424T192423
CREATED:20251208T133213Z
LAST-MODIFIED:20251208T133213Z
UID:24421-1764856800-1764864000@koecoon.com
SUMMARY:Atelier Créatif/ Creatif workshop
DESCRIPTION:Plus d’infos / Meer info
URL:https://koecoon.com/event/atelier-creatif-creatif-workshop-3/
LOCATION:Burger Café Citoyen\, Rue des tisserands 4 / Weversstraat 4\, Koekelberg\, 1081\, Belgium
CATEGORIES:Burger Café Citoyen
END:VEVENT
BEGIN:VEVENT
DTSTART;TZID=Europe/Brussels:20251204T090000
DTEND;TZID=Europe/Brussels:20251204T110000
DTSTAMP:20260424T192423
CREATED:20251208T132925Z
LAST-MODIFIED:20251208T132925Z
UID:24413-1764838800-1764846000@koecoon.com
SUMMARY:Petit-déjeuner convivial /Gezellig ontbijt
DESCRIPTION:Plus d’infos / Meer info
URL:https://koecoon.com/event/petit-dejeuner-convivial-gezellig-ontbijt-5/
LOCATION:Burger Café Citoyen\, Rue des tisserands 4 / Weversstraat 4\, Koekelberg\, 1081\, Belgium
CATEGORIES:Burger Café Citoyen
END:VEVENT
BEGIN:VEVENT
DTSTART;TZID=Europe/Brussels:20251128T140000
DTEND;TZID=Europe/Brussels:20251128T160000
DTSTAMP:20260424T192423
CREATED:20251103T143812Z
LAST-MODIFIED:20251103T145428Z
UID:23412-1764338400-1764345600@koecoon.com
SUMMARY:Atelier numérique /Digitale workshop
DESCRIPTION:Plus d’infos / Meer info
URL:https://koecoon.com/event/atelier-numerique-digitale-workshop-koekelberg/
LOCATION:Burger Café Citoyen\, Rue des tisserands 4 / Weversstraat 4\, Koekelberg\, 1081\, Belgium
CATEGORIES:Burger Café Citoyen
END:VEVENT
BEGIN:VEVENT
DTSTART;TZID=Europe/Brussels:20251128T103000
DTEND;TZID=Europe/Brussels:20251128T113000
DTSTAMP:20260424T192423
CREATED:20251103T144626Z
LAST-MODIFIED:20251104T145626Z
UID:23429-1764325800-1764329400@koecoon.com
SUMMARY:Table de conversation en français /Franse conversatietafel
DESCRIPTION:Plus d’infos / Meer info
URL:https://koecoon.com/event/table-de-conversation-en-francais-franse-conversatietafel-4-koekelberg/
LOCATION:Burger Café Citoyen\, Rue des tisserands 4 / Weversstraat 4\, Koekelberg\, 1081\, Belgium
CATEGORIES:Burger Café Citoyen
END:VEVENT
BEGIN:VEVENT
DTSTART;TZID=Europe/Brussels:20251127T140000
DTEND;TZID=Europe/Brussels:20251127T160000
DTSTAMP:20260424T192423
CREATED:20251103T100808Z
LAST-MODIFIED:20251103T145441Z
UID:23385-1764252000-1764259200@koecoon.com
SUMMARY:Atelier Eco-conso /Workshop Eco-consumptie
DESCRIPTION:Plus d’infos / Meer info
URL:https://koecoon.com/event/atelier-eco-conso-workshop-eco-consumptie-koekelberg/
LOCATION:Burger Café Citoyen\, Rue des tisserands 4 / Weversstraat 4\, Koekelberg\, 1081\, Belgium
CATEGORIES:Burger Café Citoyen
END:VEVENT
BEGIN:VEVENT
DTSTART;TZID=Europe/Brussels:20251127T100000
DTEND;TZID=Europe/Brussels:20251127T120000
DTSTAMP:20260424T192423
CREATED:20251104T145752Z
LAST-MODIFIED:20251104T145752Z
UID:23535-1764237600-1764244800@koecoon.com
SUMMARY:Matinée jeux de société /Bordspellenochtend
DESCRIPTION:Plus d’infos / Meer info
URL:https://koecoon.com/event/matinee-jeux-de-societe-bordspellenochtend-koekelberg/
LOCATION:Burger Café Citoyen\, Rue des tisserands 4 / Weversstraat 4\, Koekelberg\, 1081\, Belgium
CATEGORIES:Burger Café Citoyen
END:VEVENT
BEGIN:VEVENT
DTSTART;TZID=Europe/Brussels:20251121T100000
DTEND;TZID=Europe/Brussels:20251121T120000
DTSTAMP:20260424T192423
CREATED:20251103T144943Z
LAST-MODIFIED:20251208T133930Z
UID:23434-1763719200-1763726400@koecoon.com
SUMMARY:Permanence juridique / Juridische permanentie
DESCRIPTION:Plus d’infos / Meer info
URL:https://koecoon.com/event/burger-cafe-citoyen-permanence-ecrivain-public-permanentie-schrijfhulp-koekelberg-2/
LOCATION:Burger Café Citoyen\, Rue des tisserands 4 / Weversstraat 4\, Koekelberg\, 1081\, Belgium
CATEGORIES:Burger Café Citoyen
END:VEVENT
BEGIN:VEVENT
DTSTART;TZID=Europe/Brussels:20251120T090000
DTEND;TZID=Europe/Brussels:20251120T110000
DTSTAMP:20260424T192423
CREATED:20251104T145541Z
LAST-MODIFIED:20251104T145541Z
UID:23532-1763629200-1763636400@koecoon.com
SUMMARY:Petit-déjeuner convivial /Gezellig ontbijt
DESCRIPTION:Plus d’infos / Meer info
URL:https://koecoon.com/event/petit-dejeuner-convivial-gezellig-ontbijt-4/
LOCATION:Burger Café Citoyen\, Rue des tisserands 4 / Weversstraat 4\, Koekelberg\, 1081\, Belgium
CATEGORIES:Burger Café Citoyen
END:VEVENT
BEGIN:VEVENT
DTSTART;TZID=Europe/Brussels:20251119T180000
DTEND;TZID=Europe/Brussels:20251119T200000
DTSTAMP:20260424T192423
CREATED:20251007T113023Z
LAST-MODIFIED:20251103T145519Z
UID:22904-1763575200-1763582400@koecoon.com
SUMMARY:Pièce de théâtre "Cohabicata"
DESCRIPTION:
URL:https://koecoon.com/event/cohabicata-theatre-engage-et-gratuit-2-koekelberg/
LOCATION:salle cadole\, rue François Delcoigne 25\, Koekelberg\, Bruxelles\, 1081\, Belgium
END:VEVENT
BEGIN:VEVENT
DTSTART;TZID=Europe/Brussels:20251114T140000
DTEND;TZID=Europe/Brussels:20251114T160000
DTSTAMP:20260424T192423
CREATED:20251104T145905Z
LAST-MODIFIED:20251202T105353Z
UID:23538-1763128800-1763136000@koecoon.com
SUMMARY:Séance information réforme chômage/ Informatiesessie hervorming werkloosheid
DESCRIPTION:Plus d’infos / Meer info
URL:https://koecoon.com/event/koekelberg-seance-information-reforme-chomage-informatiesessie-hervorming-werkloosheid/
LOCATION:Burger Café Citoyen\, Rue des tisserands 4 / Weversstraat 4\, Koekelberg\, 1081\, Belgium
CATEGORIES:Burger Café Citoyen
END:VEVENT
BEGIN:VEVENT
DTSTART;TZID=Europe/Brussels:20251114T103000
DTEND;TZID=Europe/Brussels:20251114T113000
DTSTAMP:20260424T192423
CREATED:20251103T144604Z
LAST-MODIFIED:20251103T145532Z
UID:23430-1763116200-1763119800@koecoon.com
SUMMARY:Table de conversation en français /Franse conversatietafel
DESCRIPTION:Plus d’infos / Meer info
URL:https://koecoon.com/event/table-de-conversation-en-francais-franse-conversatietafel-3-koekelberg/
LOCATION:Burger Café Citoyen\, Rue des tisserands 4 / Weversstraat 4\, Koekelberg\, 1081\, Belgium
CATEGORIES:Burger Café Citoyen
END:VEVENT
BEGIN:VEVENT
DTSTART;TZID=Europe/Brussels:20251113T140000
DTEND;TZID=Europe/Brussels:20251113T160000
DTSTAMP:20260424T192423
CREATED:20251103T144001Z
LAST-MODIFIED:20251103T145542Z
UID:23416-1763042400-1763049600@koecoon.com
SUMMARY:Que faire au Burger Café Citoyen ? /Wat te doen in het Burger CaféCitoyen ?
DESCRIPTION:Plus d’infos / Meer info
URL:https://koecoon.com/event/que-faire-au-burger-cafe-citoyen-wat-te-doen-in-het-burger-cafecitoyen-2-koekelberg/
LOCATION:Burger Café Citoyen\, Rue des tisserands 4 / Weversstraat 4\, Koekelberg\, 1081\, Belgium
CATEGORIES:Burger Café Citoyen
END:VEVENT
BEGIN:VEVENT
DTSTART;TZID=Europe/Brussels:20251113T090000
DTEND;TZID=Europe/Brussels:20251113T110000
DTSTAMP:20260424T192423
CREATED:20251104T145414Z
LAST-MODIFIED:20251104T145414Z
UID:23529-1763024400-1763031600@koecoon.com
SUMMARY:Petit-déjeuner convivial /Gezellig ontbijt
DESCRIPTION:Plus d’infos / Meer info
URL:https://koecoon.com/event/petit-dejeuner-convivial-gezellig-ontbijt-3/
LOCATION:Burger Café Citoyen\, Rue des tisserands 4 / Weversstraat 4\, Koekelberg\, 1081\, Belgium
CATEGORIES:Burger Café Citoyen
END:VEVENT
BEGIN:VEVENT
DTSTART;TZID=Europe/Brussels:20251107T140000
DTEND;TZID=Europe/Brussels:20251107T160000
DTSTAMP:20260424T192423
CREATED:20251103T144215Z
LAST-MODIFIED:20251103T145556Z
UID:23420-1762524000-1762531200@koecoon.com
SUMMARY:Que faire au Burger Café Citoyen ? /Wat te doen in het Burger CaféCitoyen ?
DESCRIPTION:Plus d’infos / Meer info
URL:https://koecoon.com/event/que-faire-au-burger-cafe-citoyen-wat-te-doen-in-het-burger-cafecitoyen-3-koekelberg/
LOCATION:Burger Café Citoyen\, Rue des tisserands 4 / Weversstraat 4\, Koekelberg\, 1081\, Belgium
CATEGORIES:Burger Café Citoyen
END:VEVENT
BEGIN:VEVENT
DTSTART;TZID=Europe/Brussels:20251107T090000
DTEND;TZID=Europe/Brussels:20251107T110000
DTSTAMP:20260424T192423
CREATED:20251103T144316Z
LAST-MODIFIED:20251104T145436Z
UID:23422-1762506000-1762513200@koecoon.com
SUMMARY:Petit-déjeuner convivial /Gezellig ontbijt
DESCRIPTION:Plus d’infos / Meer info
URL:https://koecoon.com/event/petit-dejeuner-convivial-gezellig-ontbijt-3-koekelberg/
LOCATION:Burger Café Citoyen\, Rue des tisserands 4 / Weversstraat 4\, Koekelberg\, 1081\, Belgium
CATEGORIES:Burger Café Citoyen
END:VEVENT
BEGIN:VEVENT
DTSTART;TZID=Europe/Brussels:20251106T140000
DTEND;TZID=Europe/Brussels:20251106T160000
DTSTAMP:20260424T192423
CREATED:20251208T133314Z
LAST-MODIFIED:20251208T133315Z
UID:24424-1762437600-1762444800@koecoon.com
SUMMARY:Atelier Eco-conso /Workshop Eco-consumptie
DESCRIPTION:Plus d’infos / Meer info
URL:https://koecoon.com/event/atelier-eco-conso-workshop-eco-consumptie-2/
LOCATION:Burger Café Citoyen\, Rue des tisserands 4 / Weversstraat 4\, Koekelberg\, 1081\, Belgium
END:VEVENT
BEGIN:VEVENT
DTSTART;TZID=Europe/Brussels:20251106T140000
DTEND;TZID=Europe/Brussels:20251106T160000
DTSTAMP:20260424T192423
CREATED:20251103T144419Z
LAST-MODIFIED:20251103T145612Z
UID:23426-1762437600-1762444800@koecoon.com
SUMMARY:Séance d’info logement /Informatiebijeenkomst huisvesting
DESCRIPTION:Plus d’infos / Meer info
URL:https://koecoon.com/event/seance-dinfo-logement-informatiebijeenkomst-huisvesting-koekelberg/
LOCATION:Burger Café Citoyen\, Rue des tisserands 4 / Weversstraat 4\, Koekelberg\, 1081\, Belgium
CATEGORIES:Burger Café Citoyen
END:VEVENT
BEGIN:VEVENT
DTSTART;TZID=Europe/Brussels:20251106T140000
DTEND;TZID=Europe/Brussels:20251106T160000
DTSTAMP:20260424T192423
CREATED:20251103T144035Z
LAST-MODIFIED:20251104T145312Z
UID:23415-1762437600-1762444800@koecoon.com
SUMMARY:Atelier Créatif/ Creatif workshop
DESCRIPTION:Plus d’infos / Meer info
URL:https://koecoon.com/event/atelier-creatif-creatif-workshop-2-koekelberg/
LOCATION:Burger Café Citoyen\, Rue des tisserands 4 / Weversstraat 4\, Koekelberg\, 1081\, Belgium
CATEGORIES:Burger Café Citoyen
END:VEVENT
BEGIN:VEVENT
DTSTART;TZID=Europe/Brussels:20251031T100000
DTEND;TZID=Europe/Brussels:20251031T120000
DTSTAMP:20260424T192423
CREATED:20251007T101621Z
LAST-MODIFIED:20251007T122044Z
UID:22893-1761904800-1761912000@koecoon.com
SUMMARY:Atelier Eco-conso /Workshop Eco-consumptie
DESCRIPTION:Plus d’infos / Meer info
URL:https://koecoon.com/event/atelier-eco-conso-workshop-eco-consumptie/
LOCATION:Burger Café Citoyen\, Rue des tisserands 4 / Weversstraat 4\, Koekelberg\, 1081\, Belgium
END:VEVENT
BEGIN:VEVENT
DTSTART;TZID=Europe/Brussels:20251031T050000
DTEND;TZID=Europe/Brussels:20251031T170000
DTSTAMP:20260424T192423
CREATED:20251007T101706Z
LAST-MODIFIED:20251007T122253Z
UID:22896-1761886800-1761930000@koecoon.com
SUMMARY:Goûter d’Halloween /Halloweentraktatie
DESCRIPTION:Plus d’infos / Meer info
URL:https://koecoon.com/event/gouter-dhalloween-halloweentraktatie/
LOCATION:Burger Café Citoyen\, Rue des tisserands 4 / Weversstraat 4\, Koekelberg\, 1081\, Belgium
END:VEVENT
BEGIN:VEVENT
DTSTART;TZID=Europe/Brussels:20251030T103000
DTEND;TZID=Europe/Brussels:20251030T113000
DTSTAMP:20260424T192423
CREATED:20251103T105718Z
LAST-MODIFIED:20251103T105718Z
UID:23384-1761820200-1761823800@koecoon.com
SUMMARY:Table de conversation en néerlandais /Nederlandse conversatietafel
DESCRIPTION:Plus d’infos / Meer info
URL:https://koecoon.com/event/table-de-conversation-en-neerlandais-nederlandse-conversatietafel-10/
LOCATION:Burger Café Citoyen\, Rue des tisserands 4 / Weversstraat 4\, Koekelberg\, 1081\, Belgium
END:VEVENT
BEGIN:VEVENT
DTSTART;TZID=Europe/Brussels:20251030T103000
DTEND;TZID=Europe/Brussels:20251030T113000
DTSTAMP:20260424T192423
CREATED:20251007T100820Z
LAST-MODIFIED:20251007T122336Z
UID:22874-1761820200-1761823800@koecoon.com
SUMMARY:Table de conversation en néerlandais /Nederlandse conversatietafel
DESCRIPTION:Plus d’infos / Meer info
URL:https://koecoon.com/event/table-de-conversation-en-neerlandais-nederlandse-conversatietafel-4/
LOCATION:Burger Café Citoyen\, Rue des tisserands 4 / Weversstraat 4\, Koekelberg\, 1081\, Belgium
END:VEVENT
END:VCALENDAR