BEGIN:VCALENDAR
VERSION:2.0
PRODID:-//KoeCooN - ECPv6.15.20//NONSGML v1.0//EN
CALSCALE:GREGORIAN
METHOD:PUBLISH
X-WR-CALNAME:KoeCooN
X-ORIGINAL-URL:https://koecoon.com
X-WR-CALDESC:Events for KoeCooN
REFRESH-INTERVAL;VALUE=DURATION:PT1H
X-Robots-Tag:noindex
X-PUBLISHED-TTL:PT1H
BEGIN:VTIMEZONE
TZID:Europe/Brussels
BEGIN:DAYLIGHT
TZOFFSETFROM:+0100
TZOFFSETTO:+0200
TZNAME:CEST
DTSTART:20240331T010000
END:DAYLIGHT
BEGIN:STANDARD
TZOFFSETFROM:+0200
TZOFFSETTO:+0100
TZNAME:CET
DTSTART:20241027T010000
END:STANDARD
BEGIN:DAYLIGHT
TZOFFSETFROM:+0100
TZOFFSETTO:+0200
TZNAME:CEST
DTSTART:20250330T010000
END:DAYLIGHT
BEGIN:STANDARD
TZOFFSETFROM:+0200
TZOFFSETTO:+0100
TZNAME:CET
DTSTART:20251026T010000
END:STANDARD
BEGIN:DAYLIGHT
TZOFFSETFROM:+0100
TZOFFSETTO:+0200
TZNAME:CEST
DTSTART:20260329T010000
END:DAYLIGHT
BEGIN:STANDARD
TZOFFSETFROM:+0200
TZOFFSETTO:+0100
TZNAME:CET
DTSTART:20261025T010000
END:STANDARD
END:VTIMEZONE
BEGIN:VEVENT
DTSTART;TZID=Europe/Brussels:20251106T140000
DTEND;TZID=Europe/Brussels:20251106T160000
DTSTAMP:20260425T001240
CREATED:20251103T144419Z
LAST-MODIFIED:20251103T145612Z
UID:23426-1762437600-1762444800@koecoon.com
SUMMARY:Séance d’info logement /Informatiebijeenkomst huisvesting
DESCRIPTION:Plus d’infos / Meer info
URL:https://koecoon.com/event/seance-dinfo-logement-informatiebijeenkomst-huisvesting-koekelberg/
LOCATION:Burger Café Citoyen\, Rue des tisserands 4 / Weversstraat 4\, Koekelberg\, 1081\, Belgium
CATEGORIES:Burger Café Citoyen
END:VEVENT
BEGIN:VEVENT
DTSTART;TZID=Europe/Brussels:20251106T140000
DTEND;TZID=Europe/Brussels:20251106T160000
DTSTAMP:20260425T001240
CREATED:20251103T144035Z
LAST-MODIFIED:20251104T145312Z
UID:23415-1762437600-1762444800@koecoon.com
SUMMARY:Atelier Créatif/ Creatif workshop
DESCRIPTION:Plus d’infos / Meer info
URL:https://koecoon.com/event/atelier-creatif-creatif-workshop-2-koekelberg/
LOCATION:Burger Café Citoyen\, Rue des tisserands 4 / Weversstraat 4\, Koekelberg\, 1081\, Belgium
CATEGORIES:Burger Café Citoyen
END:VEVENT
BEGIN:VEVENT
DTSTART;TZID=Europe/Brussels:20251031T100000
DTEND;TZID=Europe/Brussels:20251031T120000
DTSTAMP:20260425T001240
CREATED:20251007T101621Z
LAST-MODIFIED:20251007T122044Z
UID:22893-1761904800-1761912000@koecoon.com
SUMMARY:Atelier Eco-conso /Workshop Eco-consumptie
DESCRIPTION:Plus d’infos / Meer info
URL:https://koecoon.com/event/atelier-eco-conso-workshop-eco-consumptie/
LOCATION:Burger Café Citoyen\, Rue des tisserands 4 / Weversstraat 4\, Koekelberg\, 1081\, Belgium
END:VEVENT
BEGIN:VEVENT
DTSTART;TZID=Europe/Brussels:20251031T050000
DTEND;TZID=Europe/Brussels:20251031T170000
DTSTAMP:20260425T001240
CREATED:20251007T101706Z
LAST-MODIFIED:20251007T122253Z
UID:22896-1761886800-1761930000@koecoon.com
SUMMARY:Goûter d’Halloween /Halloweentraktatie
DESCRIPTION:Plus d’infos / Meer info
URL:https://koecoon.com/event/gouter-dhalloween-halloweentraktatie/
LOCATION:Burger Café Citoyen\, Rue des tisserands 4 / Weversstraat 4\, Koekelberg\, 1081\, Belgium
END:VEVENT
BEGIN:VEVENT
DTSTART;TZID=Europe/Brussels:20251030T103000
DTEND;TZID=Europe/Brussels:20251030T113000
DTSTAMP:20260425T001240
CREATED:20251103T105718Z
LAST-MODIFIED:20251103T105718Z
UID:23384-1761820200-1761823800@koecoon.com
SUMMARY:Table de conversation en néerlandais /Nederlandse conversatietafel
DESCRIPTION:Plus d’infos / Meer info
URL:https://koecoon.com/event/table-de-conversation-en-neerlandais-nederlandse-conversatietafel-10/
LOCATION:Burger Café Citoyen\, Rue des tisserands 4 / Weversstraat 4\, Koekelberg\, 1081\, Belgium
END:VEVENT
BEGIN:VEVENT
DTSTART;TZID=Europe/Brussels:20251030T103000
DTEND;TZID=Europe/Brussels:20251030T113000
DTSTAMP:20260425T001240
CREATED:20251007T100820Z
LAST-MODIFIED:20251007T122336Z
UID:22874-1761820200-1761823800@koecoon.com
SUMMARY:Table de conversation en néerlandais /Nederlandse conversatietafel
DESCRIPTION:Plus d’infos / Meer info
URL:https://koecoon.com/event/table-de-conversation-en-neerlandais-nederlandse-conversatietafel-4/
LOCATION:Burger Café Citoyen\, Rue des tisserands 4 / Weversstraat 4\, Koekelberg\, 1081\, Belgium
END:VEVENT
BEGIN:VEVENT
DTSTART;TZID=Europe/Brussels:20251030T090000
DTEND;TZID=Europe/Brussels:20251030T120000
DTSTAMP:20260425T001240
CREATED:20251007T100228Z
LAST-MODIFIED:20251007T122716Z
UID:22861-1761814800-1761825600@koecoon.com
SUMMARY:Aide pour l'allocation scolaire / Hulp bij schooltoelage
DESCRIPTION:Plus d’infos / Meer info
URL:https://koecoon.com/event/aide-pour-lallocation-scolaire-hulp-bij-schooltoelage-4/
LOCATION:Burger Café Citoyen\, Rue des tisserands 4 / Weversstraat 4\, Koekelberg\, 1081\, Belgium
END:VEVENT
BEGIN:VEVENT
DTSTART;TZID=Europe/Brussels:20251024T140000
DTEND;TZID=Europe/Brussels:20251024T160000
DTSTAMP:20260425T001240
CREATED:20251007T101538Z
LAST-MODIFIED:20251007T122420Z
UID:22891-1761314400-1761321600@koecoon.com
SUMMARY:Atelier numérique /Digitale workshop
DESCRIPTION:Plus d’infos / Meer info
URL:https://koecoon.com/event/atelier-numerique-digitale-workshop/
LOCATION:Burger Café Citoyen\, Rue des tisserands 4 / Weversstraat 4\, Koekelberg\, 1081\, Belgium
END:VEVENT
BEGIN:VEVENT
DTSTART;TZID=Europe/Brussels:20251024T103000
DTEND;TZID=Europe/Brussels:20251024T113000
DTSTAMP:20260425T001240
CREATED:20251007T101218Z
LAST-MODIFIED:20251007T122502Z
UID:22883-1761301800-1761305400@koecoon.com
SUMMARY:Table de conversation en français /Franse conversatietafel
DESCRIPTION:Plus d’infos / Meer info
URL:https://koecoon.com/event/table-de-conversation-en-francais-franse-conversatietafel-2/
LOCATION:Burger Café Citoyen\, Rue des tisserands 4 / Weversstraat 4\, Koekelberg\, 1081\, Belgium
END:VEVENT
BEGIN:VEVENT
DTSTART;TZID=Europe/Brussels:20251024T090000
DTEND;TZID=Europe/Brussels:20251024T110000
DTSTAMP:20260425T001240
CREATED:20251007T101346Z
LAST-MODIFIED:20251007T122543Z
UID:22887-1761296400-1761303600@koecoon.com
SUMMARY:Petit-déjeuner convivial /Gezellig ontbijt
DESCRIPTION:Plus d’infos / Meer info
URL:https://koecoon.com/event/petit-dejeuner-convivial-gezellig-ontbijt-2/
LOCATION:Burger Café Citoyen\, Rue des tisserands 4 / Weversstraat 4\, Koekelberg\, 1081\, Belgium
END:VEVENT
BEGIN:VEVENT
DTSTART;TZID=Europe/Brussels:20251023T103000
DTEND;TZID=Europe/Brussels:20251023T113000
DTSTAMP:20260425T001240
CREATED:20251007T100803Z
LAST-MODIFIED:20251007T122623Z
UID:22872-1761215400-1761219000@koecoon.com
SUMMARY:Table de conversation en néerlandais /Nederlandse conversatietafel
DESCRIPTION:Plus d’infos / Meer info
URL:https://koecoon.com/event/table-de-conversation-en-neerlandais-nederlandse-conversatietafel-2/
LOCATION:Burger Café Citoyen\, Rue des tisserands 4 / Weversstraat 4\, Koekelberg\, 1081\, Belgium
END:VEVENT
BEGIN:VEVENT
DTSTART;TZID=Europe/Brussels:20251023T090000
DTEND;TZID=Europe/Brussels:20251023T120000
DTSTAMP:20260425T001240
CREATED:20251007T100118Z
LAST-MODIFIED:20251103T144921Z
UID:22859-1761210000-1761220800@koecoon.com
SUMMARY:Aide pour l'allocation scolaire / Hulp bij schooltoelage
DESCRIPTION:Plus d’infos / Meer info
URL:https://koecoon.com/event/aide-pour-lallocation-scolaire-hulp-bij-schooltoelage-3/
LOCATION:Burger Café Citoyen\, Rue des tisserands 4 / Weversstraat 4\, Koekelberg\, 1081\, Belgium
END:VEVENT
BEGIN:VEVENT
DTSTART;TZID=Europe/Brussels:20251017T150000
DTEND;TZID=Europe/Brussels:20251017T170000
DTSTAMP:20260425T001240
CREATED:20251007T112929Z
LAST-MODIFIED:20251007T114715Z
UID:22902-1760713200-1760720400@koecoon.com
SUMMARY:Pièce de théâtre "Cohabicata"
DESCRIPTION:
URL:https://koecoon.com/event/cohabicata-theatre-engage-et-gratuit/
LOCATION:salle cadole\, rue François Delcoigne 25\, Koekelberg\, Bruxelles\, 1081\, Belgium
END:VEVENT
BEGIN:VEVENT
DTSTART;TZID=Europe/Brussels:20251016T090000
DTEND;TZID=Europe/Brussels:20251017T170000
DTSTAMP:20260425T001240
CREATED:20251007T101742Z
LAST-MODIFIED:20251007T112739Z
UID:22899-1760605200-1760720400@koecoon.com
SUMMARY:Burger Café Ciotyen fermé - Close
DESCRIPTION:
URL:https://koecoon.com/event/ferme-close/
LOCATION:Burger Café Citoyen\, Rue des tisserands 4 / Weversstraat 4\, Koekelberg\, 1081\, Belgium
END:VEVENT
BEGIN:VEVENT
DTSTART;TZID=Europe/Brussels:20251010T140000
DTEND;TZID=Europe/Brussels:20251010T160000
DTSTAMP:20260425T001240
CREATED:20251007T101034Z
LAST-MODIFIED:20251007T121742Z
UID:22878-1760104800-1760112000@koecoon.com
SUMMARY:Atelier Créatif/ Creatif workshop
DESCRIPTION:Plus d’infos / Meer info
URL:https://koecoon.com/event/atelier-creatif-creatif-workshop/
LOCATION:Burger Café Citoyen\, Rue des tisserands 4 / Weversstraat 4\, Koekelberg\, 1081\, Belgium
END:VEVENT
BEGIN:VEVENT
DTSTART;TZID=Europe/Brussels:20251010T103000
DTEND;TZID=Europe/Brussels:20251010T113000
DTSTAMP:20260425T001240
CREATED:20251007T101127Z
LAST-MODIFIED:20251007T121748Z
UID:22880-1760092200-1760095800@koecoon.com
SUMMARY:Table de conversation en français /Franse conversatietafel
DESCRIPTION:Plus d’infos / Meer info
URL:https://koecoon.com/event/table-de-conversation-en-francais-franse-conversatietafel/
LOCATION:Burger Café Citoyen\, Rue des tisserands 4 / Weversstraat 4\, Koekelberg\, 1081\, Belgium
END:VEVENT
BEGIN:VEVENT
DTSTART;TZID=Europe/Brussels:20251009T103000
DTEND;TZID=Europe/Brussels:20251009T113000
DTSTAMP:20260425T001240
CREATED:20251007T100654Z
LAST-MODIFIED:20251007T121753Z
UID:22870-1760005800-1760009400@koecoon.com
SUMMARY:Table de conversation en néerlandais /Nederlandse conversatietafel
DESCRIPTION:Plus d’infos / Meer info
URL:https://koecoon.com/event/table-de-conversation-en-neerlandais-nederlandse-conversatietafel-3/
LOCATION:Burger Café Citoyen\, Rue des tisserands 4 / Weversstraat 4\, Koekelberg\, 1081\, Belgium
END:VEVENT
BEGIN:VEVENT
DTSTART;TZID=Europe/Brussels:20251009T090000
DTEND;TZID=Europe/Brussels:20251009T120000
DTSTAMP:20260425T001240
CREATED:20251007T095917Z
LAST-MODIFIED:20251007T121330Z
UID:22853-1760000400-1760011200@koecoon.com
SUMMARY:Aide pour l'allocation scolaire / Hulp bij schooltoelage
DESCRIPTION:Plus d’infos / Meer info
URL:https://koecoon.com/event/aide-pour-lallocation-scolaire-hulp-bij-schooltoelage-2/
LOCATION:Burger Café Citoyen\, Rue des tisserands 4 / Weversstraat 4\, Koekelberg\, 1081\, Belgium
END:VEVENT
BEGIN:VEVENT
DTSTART;TZID=Europe/Brussels:20251003T140000
DTEND;TZID=Europe/Brussels:20251003T160000
DTSTAMP:20260425T001240
CREATED:20250929T101453Z
LAST-MODIFIED:20251007T121759Z
UID:22889-1759500000-1759507200@koecoon.com
SUMMARY:Que faire au Burger Café Citoyen ? /Wat te doen in het Burger CaféCitoyen ?
DESCRIPTION:Plus d’infos / Meer info
URL:https://koecoon.com/event/que-faire-au-burger-cafe-citoyen-wat-te-doen-in-het-burger-cafecitoyen/
LOCATION:Burger Café Citoyen\, Rue des tisserands 4 / Weversstraat 4\, Koekelberg\, 1081\, Belgium
END:VEVENT
BEGIN:VEVENT
DTSTART;TZID=Europe/Brussels:20251003T090000
DTEND;TZID=Europe/Brussels:20251003T110000
DTSTAMP:20260425T001240
CREATED:20250929T101316Z
LAST-MODIFIED:20251007T121804Z
UID:22885-1759482000-1759489200@koecoon.com
SUMMARY:Petit-déjeuner convivial /Gezellig ontbijt
DESCRIPTION:Plus d’infos / Meer info
URL:https://koecoon.com/event/petit-dejeuner-convivial-gezellig-ontbijt/
LOCATION:Burger Café Citoyen\, Rue des tisserands 4 / Weversstraat 4\, Koekelberg\, 1081\, Belgium
END:VEVENT
BEGIN:VEVENT
DTSTART;TZID=Europe/Brussels:20251002T140000
DTEND;TZID=Europe/Brussels:20251002T160000
DTSTAMP:20260425T001240
CREATED:20250929T100856Z
LAST-MODIFIED:20251007T120954Z
UID:22876-1759413600-1759420800@koecoon.com
SUMMARY:Séance d’info logement /Informatiebijeenkomst huisvesting
DESCRIPTION:Plus d’infos / Meer info
URL:https://koecoon.com/event/seance-dinfo-logement-informatiebijeenkomst-huisvesting/
LOCATION:Burger Café Citoyen\, Rue des tisserands 4 / Weversstraat 4\, Koekelberg\, 1081\, Belgium
END:VEVENT
BEGIN:VEVENT
DTSTART;TZID=Europe/Brussels:20251002T103000
DTEND;TZID=Europe/Brussels:20251002T113000
DTSTAMP:20260425T001240
CREATED:20250929T100333Z
LAST-MODIFIED:20251007T120948Z
UID:22866-1759401000-1759404600@koecoon.com
SUMMARY:Table de conversation en néerlandais /Nederlandse conversatietafel
DESCRIPTION:Plus d’infos / Meer info
URL:https://koecoon.com/event/table-de-conversation-en-neerlandais-nederlandse-conversatietafel/
LOCATION:Burger Café Citoyen\, Rue des tisserands 4 / Weversstraat 4\, Koekelberg\, 1081\, Belgium
END:VEVENT
BEGIN:VEVENT
DTSTART;TZID=Europe/Brussels:20251002T090000
DTEND;TZID=Europe/Brussels:20251002T120000
DTSTAMP:20260425T001240
CREATED:20251001T095547Z
LAST-MODIFIED:20251007T121834Z
UID:22849-1759395600-1759406400@koecoon.com
SUMMARY:Aide pour l'allocation scolaire / Hulp bij schooltoelage
DESCRIPTION:Plus d’infos / Meer info
URL:https://koecoon.com/event/aide-pour-lallocation-scolaire-hulp-bij-schooltoelage/
LOCATION:Burger Café Citoyen\, Rue des tisserands 4 / Weversstraat 4\, Koekelberg\, 1081\, Belgium
CATEGORIES:Burger Café Citoyen
END:VEVENT
BEGIN:VEVENT
DTSTART;TZID=Europe/Brussels:20250930T140000
DTEND;TZID=Europe/Brussels:20250930T200000
DTSTAMP:20260425T001240
CREATED:20250428T090711Z
LAST-MODIFIED:20250428T094535Z
UID:21019-1759240800-1759262400@koecoon.com
SUMMARY:D'Broej vzw : Initiation à la boxe anglaise
DESCRIPTION:
URL:https://koecoon.com/event/dbroej-vzw-initiation-a-la-boxe-anglaise-8/
LOCATION:Parc Victoria\, KOEKELBERG\, 1081\, 1081\, Belgium
END:VEVENT
BEGIN:VEVENT
DTSTART;TZID=Europe/Brussels:20250905T150000
DTEND;TZID=Europe/Brussels:20250905T180000
DTSTAMP:20260425T001240
CREATED:20250818T131801Z
LAST-MODIFIED:20250818T132002Z
UID:22256-1757084400-1757095200@koecoon.com
SUMMARY:Le Burger Café Citoyen fait sa rentrée ​! /  Het Burger Café Citoyen is terug van weggeweest!
DESCRIPTION:Le Burger Café Citoyen emménage dans une nouvelle adresse et vous invite à fêter cette rentrée conviviale et pleine d’idées !  \n\n\n\nHet Burger Café Citoyen verhuist naar een nieuw adres en nodigt u uit om samen de gezellige en inspirerende heropening te vieren! \n\n\n\nQuand ? / Wanneer?\n\n\n\nVendredi 5 septembre 2025\, de 15h à 18h. \n\n\n\nVrijdag 5 september 2025\, van 15u tot 18u. \n\n\n\n Où ? / Waar?\n\n\n\nRue des Tisserands 4\, 1081 KoekelbergSalle communautaire du rez-de-chaussée \n\n\n\nWeversstraat 4\, 1081 KoekelbergGemeenschapszaal op het gelijkvloers \n\n\n\n Au programme : / Op het programma:\n\n\n\n\nGoûter gourmand offert  / Gratis traktatie \n\n\n\nPrésentation des projets associatifs / Voorstelling van de verenigingsprojecten\n\n\n\nDécouverte du programme à venir / Ontdekking van het komende programma \n\n\n\nRencontre avec l’équipe et les habitants / Ontmoeting met het team en de buurtbewoners\n\n\n\nAmbiance conviviale et échanges chaleureux  / Gezellige sfeer en warme gesprekken \n\n\n\n\nVenez nombreux ! Toute l’équipe du Burger Café Citoyen vous attend avec impatience pour partager un moment convivial autour d’une tasse de café et de bonnes idées. \n\n\n\nWees er zeker bij! Het hele team van het Burger Café Citoyen kijkt ernaar uit u te verwelkomen voor een gezellige namiddag vol ideeën en ontmoetingen. \n\n\n\n + info: 02/412.16.08
URL:https://koecoon.com/event/le-burger-cafe-citoyen-fait-sa-rentree-het-burger-cafe-citoyen-is-terug-van-weggeweest/
LOCATION:Salle communautaire Log’Iris\, rue des tisserands 4\, KOEKELBERG\, 1081\, Belgium
END:VEVENT
BEGIN:VEVENT
DTSTART;TZID=Europe/Brussels:20250706T120000
DTEND;TZID=Europe/Brussels:20250706T190000
DTSTAMP:20260425T001240
CREATED:20250428T085708Z
LAST-MODIFIED:20250428T094558Z
UID:20995-1751803200-1751828400@koecoon.com
SUMMARY:D'Broej vzw : Initiation à la boxe anglaise
DESCRIPTION:
URL:https://koecoon.com/event/dbroej-vzw-initiation-a-la-boxe-anglaise-2/
LOCATION:Place Vanhuffel\, KOEKELBERG\, 1081\, Belgium
END:VEVENT
BEGIN:VEVENT
DTSTART;TZID=Europe/Brussels:20250624T140000
DTEND;TZID=Europe/Brussels:20250624T200000
DTSTAMP:20260425T001240
CREATED:20250428T090119Z
LAST-MODIFIED:20250428T094604Z
UID:21005-1750773600-1750795200@koecoon.com
SUMMARY:D'Broej vzw : Initiation à la boxe anglaise
DESCRIPTION:
URL:https://koecoon.com/event/dbroej-vzw-initiation-a-la-boxe-anglaise-7/
LOCATION:Rue Schmitz\, 1081\, Belgium
END:VEVENT
BEGIN:VEVENT
DTSTART;TZID=Europe/Brussels:20250615T120000
DTEND;TZID=Europe/Brussels:20250615T190000
DTSTAMP:20260425T001240
CREATED:20250428T085913Z
LAST-MODIFIED:20250428T094609Z
UID:21001-1749988800-1750014000@koecoon.com
SUMMARY:D'Broej vzw : Initiation à la boxe anglaise
DESCRIPTION:
URL:https://koecoon.com/event/dbroej-vzw-initiation-a-la-boxe-anglaise-5/
LOCATION:Parc Victoria\, KOEKELBERG\, 1081\, 1081\, Belgium
END:VEVENT
BEGIN:VEVENT
DTSTART;TZID=Europe/Brussels:20250523T140000
DTEND;TZID=Europe/Brussels:20250523T160000
DTSTAMP:20260425T001240
CREATED:20250428T085352Z
LAST-MODIFIED:20250428T094203Z
UID:20987-1748008800-1748016000@koecoon.com
SUMMARY:Burger Café Citoyen : Séance d’info logement / Informatiebijeenkomst huisvesting
DESCRIPTION:
URL:https://koecoon.com/event/burger-cafe-citoyen-seance-dinfo-logement-informatiebijeenkomst-huisvesting-koekelberg/
CATEGORIES:Burger Café Citoyen
END:VEVENT
BEGIN:VEVENT
DTSTART;TZID=Europe/Brussels:20250523T100000
DTEND;TZID=Europe/Brussels:20250523T120000
DTSTAMP:20260425T001240
CREATED:20250428T085310Z
LAST-MODIFIED:20250428T094135Z
UID:20985-1747994400-1748001600@koecoon.com
SUMMARY:Burger café Citoyen : Permanence écrivain public / Permanentie Schrijfhulp
DESCRIPTION:
URL:https://koecoon.com/event/burger-cafe-citoyen-permanence-ecrivain-public-permanentie-schrijfhulp-koekelberg/
CATEGORIES:Burger Café Citoyen
END:VEVENT
END:VCALENDAR